BEGIN:VCALENDAR
VERSION:2.0
PRODID:-//Richmond Ballet - ECPv6.15.19//NONSGML v1.0//EN
CALSCALE:GREGORIAN
METHOD:PUBLISH
X-WR-CALNAME:Richmond Ballet
X-ORIGINAL-URL:https://richmondballet.com
X-WR-CALDESC:Events for Richmond Ballet
REFRESH-INTERVAL;VALUE=DURATION:PT1H
X-Robots-Tag:noindex
X-PUBLISHED-TTL:PT1H
BEGIN:VTIMEZONE
TZID:America/New_York
BEGIN:DAYLIGHT
TZOFFSETFROM:-0500
TZOFFSETTO:-0400
TZNAME:EDT
DTSTART:20240310T070000
END:DAYLIGHT
BEGIN:STANDARD
TZOFFSETFROM:-0400
TZOFFSETTO:-0500
TZNAME:EST
DTSTART:20241103T060000
END:STANDARD
BEGIN:DAYLIGHT
TZOFFSETFROM:-0500
TZOFFSETTO:-0400
TZNAME:EDT
DTSTART:20250309T070000
END:DAYLIGHT
BEGIN:STANDARD
TZOFFSETFROM:-0400
TZOFFSETTO:-0500
TZNAME:EST
DTSTART:20251102T060000
END:STANDARD
BEGIN:DAYLIGHT
TZOFFSETFROM:-0500
TZOFFSETTO:-0400
TZNAME:EDT
DTSTART:20260308T070000
END:DAYLIGHT
BEGIN:STANDARD
TZOFFSETFROM:-0400
TZOFFSETTO:-0500
TZNAME:EST
DTSTART:20261101T060000
END:STANDARD
END:VTIMEZONE
BEGIN:VEVENT
DTSTART;TZID=America/New_York:20250712T100000
DTEND;TZID=America/New_York:20250712T130000
DTSTAMP:20260421T011612
CREATED:20220623T191607Z
LAST-MODIFIED:20250709T205949Z
UID:5991-1752314400-1752325200@richmondballet.com
SUMMARY:Nutcracker In July
DESCRIPTION:SATURDAY\, JULY 12TH\nDon’t miss this summer’s magical Nutcracker in July open house — a festive\, one-day event packed with free dance classes\, behind-the-scenes experiences\, and meet-and-greets with your favorite Nutcracker characters! To top it off\, guests enjoy exclusive early access to purchase tickets to The Nutcracker before single tickets go on sale in August. \nClass Schedule: \n10:15am – Nutcracker-themed classes (Ages 4-6 and Ages 7-11)\n10:45am – Minds In Motion movement class (Ages 8-13)\n11:15am – Nutcracker-themed classes (Ages 4-6 and Ages 7-11)\n11:45am – Minds In Motion movement class (Ages 8-13)\n12:15pm – Nutcracker-themed classes (Ages 4-6 and Ages 7-11) \n30 minute class sessions – no dance experience necessary \nThroughout the Event (10am-1pm):\n \n• Purchase tickets to The Nutcracker before they go on sale to the general public (only available in person at our box office)\n• Take photos with some of your favorite Nutcracker characters\n• Get an up-close look at the magical Nutcracker costumes\n• Take a tour of the Richmond Ballet building and watch a variety of School of Richmond Ballet classes\n• Create arts and crafts with Richmond Family Magazine\n• Visit bbgb’s table of children’s books\, available for purchase\n• Stay cool with an Italian ice treat from Good Vices\, available for purchase \n\n\n\n\n\n\nNutcracker in July\nRichmond Ballet\n407 East Canal Street\, Richmond\, VA 23219 \nFree parking is available from 10am-1pm in the Richmond Ballet lot directly next to the Ballet. Street parking is also free on weekends. \nThis is a free event and no registration is required. \nPlease note that a photographer will be present at Nutcracker in July. Photos may include patrons attending the event.
URL:https://richmondballet.com/event/nutcracker-in-july/
LOCATION:Richmond Ballet\, 407 E Canal St\, Richmond\, VA\, 23219\, United States
CATEGORIES:Featured Event,Open House
ATTACH;FMTTYPE=image/png:https://richmondballet.com/wp-content/uploads/2022/06/NutcrackerInJulyWebSlider.png
END:VEVENT
BEGIN:VEVENT
DTSTART;TZID=America/New_York:20250623T080000
DTEND;TZID=America/New_York:20250801T170000
DTSTAMP:20260421T011612
CREATED:20250602T193911Z
LAST-MODIFIED:20250715T153504Z
UID:7455-1750665600-1754067600@richmondballet.com
SUMMARY:Summer Camps
DESCRIPTION:
URL:https://richmondballet.com/event/summer-camps/
LOCATION:VA
CATEGORIES:Summer Camps
ATTACH;FMTTYPE=image/jpeg:https://richmondballet.com/wp-content/uploads/2025/06/SummerCamps-1.jpg
END:VEVENT
BEGIN:VEVENT
DTSTART;TZID=America/New_York:20250531T173000
DTEND;TZID=America/New_York:20250531T230000
DTSTAMP:20260421T011612
CREATED:20250220T213524Z
LAST-MODIFIED:20250227T184855Z
UID:7334-1748712600-1748732400@richmondballet.com
SUMMARY:Legacy Gala
DESCRIPTION:Please join us onstage for a special evening celebrating the extraordinary legacy of Founding Artistic Director Stoner Winslett and Richmond Ballet. \n\n\n\nRichmond Ballet Gala\nIn Celebration of Stoner Winslett \nSaturday\, May 31\, 2025\nAltria Theater | Richmond\, VA \nMore details to come!
URL:https://richmondballet.com/event/legacy-gala/
LOCATION:Altria Theater\, 6 N Laurel St\, Richmond\, VA\, 23220\, United States
CATEGORIES:Featured Event
ATTACH;FMTTYPE=image/jpeg:https://richmondballet.com/wp-content/uploads/2025/02/LegacyWebSlider-1.jpg
END:VEVENT
END:VCALENDAR