BEGIN:VCALENDAR
VERSION:2.0
PRODID:-//Richmond Ballet - ECPv6.15.19//NONSGML v1.0//EN
CALSCALE:GREGORIAN
METHOD:PUBLISH
X-WR-CALNAME:Richmond Ballet
X-ORIGINAL-URL:https://richmondballet.com
X-WR-CALDESC:Events for Richmond Ballet
REFRESH-INTERVAL;VALUE=DURATION:PT1H
X-Robots-Tag:noindex
X-PUBLISHED-TTL:PT1H
BEGIN:VTIMEZONE
TZID:America/New_York
BEGIN:DAYLIGHT
TZOFFSETFROM:-0500
TZOFFSETTO:-0400
TZNAME:EDT
DTSTART:20240310T070000
END:DAYLIGHT
BEGIN:STANDARD
TZOFFSETFROM:-0400
TZOFFSETTO:-0500
TZNAME:EST
DTSTART:20241103T060000
END:STANDARD
BEGIN:DAYLIGHT
TZOFFSETFROM:-0500
TZOFFSETTO:-0400
TZNAME:EDT
DTSTART:20250309T070000
END:DAYLIGHT
BEGIN:STANDARD
TZOFFSETFROM:-0400
TZOFFSETTO:-0500
TZNAME:EST
DTSTART:20251102T060000
END:STANDARD
BEGIN:DAYLIGHT
TZOFFSETFROM:-0500
TZOFFSETTO:-0400
TZNAME:EDT
DTSTART:20260308T070000
END:DAYLIGHT
BEGIN:STANDARD
TZOFFSETFROM:-0400
TZOFFSETTO:-0500
TZNAME:EST
DTSTART:20261101T060000
END:STANDARD
BEGIN:DAYLIGHT
TZOFFSETFROM:-0500
TZOFFSETTO:-0400
TZNAME:EDT
DTSTART:20270314T070000
END:DAYLIGHT
BEGIN:STANDARD
TZOFFSETFROM:-0400
TZOFFSETTO:-0500
TZNAME:EST
DTSTART:20271107T060000
END:STANDARD
END:VTIMEZONE
BEGIN:VEVENT
DTSTART;VALUE=DATE:20250911
DTEND;VALUE=DATE:20260525
DTSTAMP:20260425T141309
CREATED:20250507T203415Z
LAST-MODIFIED:20260407T215020Z
UID:7429-1757548800-1779667199@richmondballet.com
SUMMARY:25/26 Season
DESCRIPTION:To view our complete schedule of performances\, click here.\nClick here to view our season brochure! \nMOVING ART ONE\nPASSION & POWER\nSeptember 11-21\, 2025\n\nat the Virginia Museum of Fine Arts\nWild Sweet Love by Trey McIntyre\nPiensa en Mí (Think of Me)\, a world premiere by Ma Cong inspired by the life and art of Frida  \n\nMOVING ART TWO\nDIRECTOR’S CHOICE\nOctober 16-26\, 2025\n\nat the Virginia Museum of Fine Arts\nSlice to Sharp by Jorma Elo\nA World Premiere by Andrea Schermoly\nFrench Twist by Ma Cong \n\nTHE NUTCRACKER\nDecember 6-23\, 2025 \nwith Richmond Symphony at Dominion Energy Center\nChoreography and Original Direction by Stoner Winslett \n\nGISELLE\nFebruary 13-15\, 2026\nwith Richmond Symphony at Dominion Energy Center\nChoreography after Jean Coralli\, Jules Perrot\, and Marius Petipa\, with additional choreography by Ma Cong \n\nMOVING ART THREE\n\nNEW WORKS\nMarch 19-29\, 2026 \nat the Virginia Museum of Fine Arts\nNew Works Festival\nChoreography by Natasha Adorlee\, David Morse\, Price Suddarth\, Serkan Usta \n\nMOVING ART FOUR\nLEGENDS\nMay 14-24\, 2026\nat the Virginia Museum of Fine Arts\nApollo by George Balanchine\nAfter Eden by John Butler\nA World Premiere by Val Caniparoli \n\nSAVE 15% ON TICKETS BY BECOMING A SUBSCRIBER! \nRichmond Ballet offers a variety of subscription packages\, all of which provide subscribers a 15% discount on tickets\, complimentary ticket exchanges\, and first choice of seats before tickets go on sale to the general public. \nFull Series\, Moving Art Series\, and Flex subscriptions are currently available. Single tickets for all productions can be purchased at etix.com. \nQuestions? Call the Richmond Ballet Box Office at 804.344.0906 x224 open M-F from 11:00am-6:00pm.
URL:https://richmondballet.com/event/25-26-season/
LOCATION:VA
CATEGORIES:Performance
ATTACH;FMTTYPE=image/jpeg:https://richmondballet.com/wp-content/uploads/2025/05/SeasonWebSliders_ArtofDance.jpg
END:VEVENT
BEGIN:VEVENT
DTSTART;TZID=America/New_York:20251023T183000
DTEND;TZID=America/New_York:20251023T183000
DTSTAMP:20260425T141309
CREATED:20210813T232527Z
LAST-MODIFIED:20251026T163459Z
UID:7518-1761244200-1761244200@richmondballet.com
SUMMARY:Moving Art Two
DESCRIPTION:Moving Art Two: Director’s Choice\nat the Virginia Museum of Fine Arts \nMoving Art Two offers a special collection of ballets artfully curated by Artistic Director Ma Cong for their deep personal meaning and artistic significance.   \nSlice to Sharp\nVirginia Premiere\nChoreography by Jorma Elo\nMusic by Heinrich Ignaz Franz von Biber and Antonio Vivaldi\nStaged by Nancy Euverink\nCostume Design by Holly Hynes\nLighting Design by Nathan W. Scheuer after Original Design by Mark Stanley \nJorma Elo’s Slice to Sharp is a favorite ballet of Ma’s – one that he performed during his noteworthy career as a professional dancer. This high-octane work\, first created for New York City Ballet\, pushes the boundaries of classical technique with sleek\, modern flair\, highlighting dancers at their artistic peak.  \nLast Touch\nWorld Premiere\nChoreography and Costume Concept by Andrea Schermoly\nMusic by Gustav Mahler and Arvo Pärt\nCostumes Constructed by Christi Owen\nLighting Design by Nathan W. Scheuer \nAndrea Schermoly returns to complete her evocative work\, Last Touch\, which captivated audiences during the 2024 New Works Festival. This world premiere commissioned by Ma will delve deeper into the ballet’s theme of experiencing one last moment with someone\, promising a transformative exploration of our connections with each other.  \nFrench Twist\nVirginia Premiere\nChoreography and Costume Concept by Ma Cong\nMusic by Hugues Le Bars\nStaged by Lauren Fagone\nLighting Design by Nathan W. Scheuer \nThe Virginia premiere of Ma Cong’s flirtatious French Twist closes this spectacular program. A witty and energetic work\, this ballet showcases Ma’s inventive choreography highlighting his passion for athleticism\, precision\, and charm. \nDates & Times\nThursday\, October 16 – 6:30 PM\nFriday\, October 17 – 6:30 PM\nSunday\, October 19 – 1:30 PM\nThursday\, October 23 – 6:30 PM\nFriday\, October 24 – 6:30 PM\nSunday\, October 26 – 1:30 PM  \nTickets start at $29*. Visit etix.com or call the Richmond Ballet Box Office at 804.344.0906 x224 open M-F from 11:00am-6:00pm.\n*this price includes facility and online convenience fees  
URL:https://richmondballet.com/event/moving-art-two/2025-10-23/
LOCATION:Leslie Cheek Theater at the Virginia Museum of Fine Arts\, 200 N Arthur Ashe Blvd\, Richmond\, VA\, United States
CATEGORIES:Performance,Virginia Museum of Fine Arts
ATTACH;FMTTYPE=image/jpeg:https://richmondballet.com/wp-content/uploads/2025/08/SeasonWebSliders_NEW_2.jpg
END:VEVENT
BEGIN:VEVENT
DTSTART;TZID=America/New_York:20251024T183000
DTEND;TZID=America/New_York:20251024T183000
DTSTAMP:20260425T141309
CREATED:20210813T232527Z
LAST-MODIFIED:20251026T163500Z
UID:7519-1761330600-1761330600@richmondballet.com
SUMMARY:Moving Art Two
DESCRIPTION:Moving Art Two: Director’s Choice\nat the Virginia Museum of Fine Arts \nMoving Art Two offers a special collection of ballets artfully curated by Artistic Director Ma Cong for their deep personal meaning and artistic significance.   \nSlice to Sharp\nVirginia Premiere\nChoreography by Jorma Elo\nMusic by Heinrich Ignaz Franz von Biber and Antonio Vivaldi\nStaged by Nancy Euverink\nCostume Design by Holly Hynes\nLighting Design by Nathan W. Scheuer after Original Design by Mark Stanley \nJorma Elo’s Slice to Sharp is a favorite ballet of Ma’s – one that he performed during his noteworthy career as a professional dancer. This high-octane work\, first created for New York City Ballet\, pushes the boundaries of classical technique with sleek\, modern flair\, highlighting dancers at their artistic peak.  \nLast Touch\nWorld Premiere\nChoreography and Costume Concept by Andrea Schermoly\nMusic by Gustav Mahler and Arvo Pärt\nCostumes Constructed by Christi Owen\nLighting Design by Nathan W. Scheuer \nAndrea Schermoly returns to complete her evocative work\, Last Touch\, which captivated audiences during the 2024 New Works Festival. This world premiere commissioned by Ma will delve deeper into the ballet’s theme of experiencing one last moment with someone\, promising a transformative exploration of our connections with each other.  \nFrench Twist\nVirginia Premiere\nChoreography and Costume Concept by Ma Cong\nMusic by Hugues Le Bars\nStaged by Lauren Fagone\nLighting Design by Nathan W. Scheuer \nThe Virginia premiere of Ma Cong’s flirtatious French Twist closes this spectacular program. A witty and energetic work\, this ballet showcases Ma’s inventive choreography highlighting his passion for athleticism\, precision\, and charm. \nDates & Times\nThursday\, October 16 – 6:30 PM\nFriday\, October 17 – 6:30 PM\nSunday\, October 19 – 1:30 PM\nThursday\, October 23 – 6:30 PM\nFriday\, October 24 – 6:30 PM\nSunday\, October 26 – 1:30 PM  \nTickets start at $29*. Visit etix.com or call the Richmond Ballet Box Office at 804.344.0906 x224 open M-F from 11:00am-6:00pm.\n*this price includes facility and online convenience fees  
URL:https://richmondballet.com/event/moving-art-two/2025-10-24/
LOCATION:Leslie Cheek Theater at the Virginia Museum of Fine Arts\, 200 N Arthur Ashe Blvd\, Richmond\, VA\, United States
CATEGORIES:Performance,Virginia Museum of Fine Arts
ATTACH;FMTTYPE=image/jpeg:https://richmondballet.com/wp-content/uploads/2025/08/SeasonWebSliders_NEW_2.jpg
END:VEVENT
BEGIN:VEVENT
DTSTART;TZID=America/New_York:20251026T133000
DTEND;TZID=America/New_York:20251026T133000
DTSTAMP:20260425T141309
CREATED:20210813T232527Z
LAST-MODIFIED:20210813T232527Z
UID:7761-1761485400-1761485400@richmondballet.com
SUMMARY:Moving Art Two
DESCRIPTION:Moving Art Two: Director’s Choice\nat the Virginia Museum of Fine Arts \nMoving Art Two offers a special collection of ballets artfully curated by Artistic Director Ma Cong for their deep personal meaning and artistic significance.   \nSlice to Sharp\nVirginia Premiere\nChoreography by Jorma Elo\nMusic by Heinrich Ignaz Franz von Biber and Antonio Vivaldi\nStaged by Nancy Euverink\nCostume Design by Holly Hynes\nLighting Design by Nathan W. Scheuer after Original Design by Mark Stanley \nJorma Elo’s Slice to Sharp is a favorite ballet of Ma’s – one that he performed during his noteworthy career as a professional dancer. This high-octane work\, first created for New York City Ballet\, pushes the boundaries of classical technique with sleek\, modern flair\, highlighting dancers at their artistic peak.  \nLast Touch\nWorld Premiere\nChoreography and Costume Concept by Andrea Schermoly\nMusic by Gustav Mahler and Arvo Pärt\nCostumes Constructed by Christi Owen\nLighting Design by Nathan W. Scheuer \nAndrea Schermoly returns to complete her evocative work\, Last Touch\, which captivated audiences during the 2024 New Works Festival. This world premiere commissioned by Ma will delve deeper into the ballet’s theme of experiencing one last moment with someone\, promising a transformative exploration of our connections with each other.  \nFrench Twist\nVirginia Premiere\nChoreography and Costume Concept by Ma Cong\nMusic by Hugues Le Bars\nStaged by Lauren Fagone\nLighting Design by Nathan W. Scheuer \nThe Virginia premiere of Ma Cong’s flirtatious French Twist closes this spectacular program. A witty and energetic work\, this ballet showcases Ma’s inventive choreography highlighting his passion for athleticism\, precision\, and charm. \nDates & Times\nThursday\, October 16 – 6:30 PM\nFriday\, October 17 – 6:30 PM\nSunday\, October 19 – 1:30 PM\nThursday\, October 23 – 6:30 PM\nFriday\, October 24 – 6:30 PM\nSunday\, October 26 – 1:30 PM  \nTickets start at $29*. Visit etix.com or call the Richmond Ballet Box Office at 804.344.0906 x224 open M-F from 11:00am-6:00pm.\n*this price includes facility and online convenience fees  
URL:https://richmondballet.com/event/moving-art-two/2025-10-26/
LOCATION:Leslie Cheek Theater at the Virginia Museum of Fine Arts\, 200 N Arthur Ashe Blvd\, Richmond\, VA\, United States
CATEGORIES:Performance,Virginia Museum of Fine Arts
ATTACH;FMTTYPE=image/jpeg:https://richmondballet.com/wp-content/uploads/2025/08/SeasonWebSliders_NEW_2.jpg
END:VEVENT
END:VCALENDAR