BEGIN:VCALENDAR
VERSION:2.0
PRODID:-//Richmond Ballet - ECPv6.15.19//NONSGML v1.0//EN
CALSCALE:GREGORIAN
METHOD:PUBLISH
X-ORIGINAL-URL:https://richmondballet.com
X-WR-CALDESC:Events for Richmond Ballet
REFRESH-INTERVAL;VALUE=DURATION:PT1H
X-Robots-Tag:noindex
X-PUBLISHED-TTL:PT1H
BEGIN:VTIMEZONE
TZID:America/New_York
BEGIN:DAYLIGHT
TZOFFSETFROM:-0500
TZOFFSETTO:-0400
TZNAME:EDT
DTSTART:20240310T070000
END:DAYLIGHT
BEGIN:STANDARD
TZOFFSETFROM:-0400
TZOFFSETTO:-0500
TZNAME:EST
DTSTART:20241103T060000
END:STANDARD
BEGIN:DAYLIGHT
TZOFFSETFROM:-0500
TZOFFSETTO:-0400
TZNAME:EDT
DTSTART:20250309T070000
END:DAYLIGHT
BEGIN:STANDARD
TZOFFSETFROM:-0400
TZOFFSETTO:-0500
TZNAME:EST
DTSTART:20251102T060000
END:STANDARD
BEGIN:DAYLIGHT
TZOFFSETFROM:-0500
TZOFFSETTO:-0400
TZNAME:EDT
DTSTART:20260308T070000
END:DAYLIGHT
BEGIN:STANDARD
TZOFFSETFROM:-0400
TZOFFSETTO:-0500
TZNAME:EST
DTSTART:20261101T060000
END:STANDARD
BEGIN:DAYLIGHT
TZOFFSETFROM:-0500
TZOFFSETTO:-0400
TZNAME:EDT
DTSTART:20270314T070000
END:DAYLIGHT
BEGIN:STANDARD
TZOFFSETFROM:-0400
TZOFFSETTO:-0500
TZNAME:EST
DTSTART:20271107T060000
END:STANDARD
END:VTIMEZONE
BEGIN:VEVENT
DTSTART;VALUE=DATE:20250911
DTEND;VALUE=DATE:20260525
DTSTAMP:20260421T004954
CREATED:20250507T203415Z
LAST-MODIFIED:20260407T215020Z
UID:7429-1757548800-1779667199@richmondballet.com
SUMMARY:25/26 Season
DESCRIPTION:To view our complete schedule of performances\, click here.\nClick here to view our season brochure! \nMOVING ART ONE\nPASSION & POWER\nSeptember 11-21\, 2025\n\nat the Virginia Museum of Fine Arts\nWild Sweet Love by Trey McIntyre\nPiensa en Mí (Think of Me)\, a world premiere by Ma Cong inspired by the life and art of Frida  \n\nMOVING ART TWO\nDIRECTOR’S CHOICE\nOctober 16-26\, 2025\n\nat the Virginia Museum of Fine Arts\nSlice to Sharp by Jorma Elo\nA World Premiere by Andrea Schermoly\nFrench Twist by Ma Cong \n\nTHE NUTCRACKER\nDecember 6-23\, 2025 \nwith Richmond Symphony at Dominion Energy Center\nChoreography and Original Direction by Stoner Winslett \n\nGISELLE\nFebruary 13-15\, 2026\nwith Richmond Symphony at Dominion Energy Center\nChoreography after Jean Coralli\, Jules Perrot\, and Marius Petipa\, with additional choreography by Ma Cong \n\nMOVING ART THREE\n\nNEW WORKS\nMarch 19-29\, 2026 \nat the Virginia Museum of Fine Arts\nNew Works Festival\nChoreography by Natasha Adorlee\, David Morse\, Price Suddarth\, Serkan Usta \n\nMOVING ART FOUR\nLEGENDS\nMay 14-24\, 2026\nat the Virginia Museum of Fine Arts\nApollo by George Balanchine\nAfter Eden by John Butler\nA World Premiere by Val Caniparoli \n\nSAVE 15% ON TICKETS BY BECOMING A SUBSCRIBER! \nRichmond Ballet offers a variety of subscription packages\, all of which provide subscribers a 15% discount on tickets\, complimentary ticket exchanges\, and first choice of seats before tickets go on sale to the general public. \nFull Series\, Moving Art Series\, and Flex subscriptions are currently available. Single tickets for all productions can be purchased at etix.com. \nQuestions? Call the Richmond Ballet Box Office at 804.344.0906 x224 open M-F from 11:00am-6:00pm.
URL:https://richmondballet.com/event/25-26-season/
LOCATION:VA
CATEGORIES:Performance
ATTACH;FMTTYPE=image/jpeg:https://richmondballet.com/wp-content/uploads/2025/05/SeasonWebSliders_ArtofDance.jpg
END:VEVENT
BEGIN:VEVENT
DTSTART;TZID=America/New_York:20251212T190000
DTEND;TZID=America/New_York:20251212T190000
DTSTAMP:20260421T004954
CREATED:20241202T204616Z
LAST-MODIFIED:20251119T151404Z
UID:7748-1765566000-1765566000@richmondballet.com
SUMMARY:The Nutcracker
DESCRIPTION:The Nutcracker\nwith Richmond Symphony at Dominion Energy Center \nChoreography and Original Direction by Stoner Winslett\nMusic by Peter Ilyich Tchaikovsky \nExperience the magic of Richmond Ballet’s beloved production of The Nutcracker. Set to Tchaikovsky’s magnificent score and accompanied by the Richmond Symphony\, this festive holiday tradition captures the wonder of the winter season. \nDates & Times\nSaturday\, December 6 – 2:00 PM and 7:00 PM\nSunday\, December 7 – 1:00 PM and 5:30 PM\nFriday\, December 12 – 7:00 PM\nSaturday\, December 13 – 2:00 PM and 7:00 PM\nSunday\, December 14 – 1:00 PM and 5:30 PM\nThursday\, December 18 – 7:00 PM\nFriday\, December 19 – 7:00 PM\nSaturday\, December 20 – 2:00 PM and 7:00 PM\nSunday\, December 21 – 1:00 PM and 5:30 PM\nMonday\, December 22 – 2:00 PM and 7:00 PM\nTuesday\, December 23 – 1:00 PM  \nTickets start at $31.60*. Visit etix.com or call the Richmond Ballet Box Office at 804.344.0906 x224 open M-F from 11:00am-6:00pm.\n*this price includes facility and online convenience fees  \nThe runtime for this performance is approximately 2 hours including one 20 minute intermission. \nPlease note: Strobe lighting and smoke effects are used in the production. \nRichmond Ballet does not offer separate pricing for children. Each guest age 2 and up must have a ticket. Ticket prices are subject to change based on availability.
URL:https://richmondballet.com/event/the-nutcracker-2/2025-12-12/
LOCATION:Dominion Energy Center\, 600 E. Grace St.\, Richmond\, VA\, 23219\, United States
CATEGORIES:Dominion Energy Center,Featured Event,Performance
ATTACH;FMTTYPE=image/jpeg:https://richmondballet.com/wp-content/uploads/2025/08/SeasonWebSliders_NEW_3.jpg
END:VEVENT
BEGIN:VEVENT
DTSTART;TZID=America/New_York:20251213T190000
DTEND;TZID=America/New_York:20251213T190000
DTSTAMP:20260421T004954
CREATED:20241202T204616Z
LAST-MODIFIED:20251119T151404Z
UID:7749-1765652400-1765652400@richmondballet.com
SUMMARY:The Nutcracker
DESCRIPTION:The Nutcracker\nwith Richmond Symphony at Dominion Energy Center \nChoreography and Original Direction by Stoner Winslett\nMusic by Peter Ilyich Tchaikovsky \nExperience the magic of Richmond Ballet’s beloved production of The Nutcracker. Set to Tchaikovsky’s magnificent score and accompanied by the Richmond Symphony\, this festive holiday tradition captures the wonder of the winter season. \nDates & Times\nSaturday\, December 6 – 2:00 PM and 7:00 PM\nSunday\, December 7 – 1:00 PM and 5:30 PM\nFriday\, December 12 – 7:00 PM\nSaturday\, December 13 – 2:00 PM and 7:00 PM\nSunday\, December 14 – 1:00 PM and 5:30 PM\nThursday\, December 18 – 7:00 PM\nFriday\, December 19 – 7:00 PM\nSaturday\, December 20 – 2:00 PM and 7:00 PM\nSunday\, December 21 – 1:00 PM and 5:30 PM\nMonday\, December 22 – 2:00 PM and 7:00 PM\nTuesday\, December 23 – 1:00 PM  \nTickets start at $31.60*. Visit etix.com or call the Richmond Ballet Box Office at 804.344.0906 x224 open M-F from 11:00am-6:00pm.\n*this price includes facility and online convenience fees  \nThe runtime for this performance is approximately 2 hours including one 20 minute intermission. \nPlease note: Strobe lighting and smoke effects are used in the production. \nRichmond Ballet does not offer separate pricing for children. Each guest age 2 and up must have a ticket. Ticket prices are subject to change based on availability.
URL:https://richmondballet.com/event/the-nutcracker-2/2025-12-13/
LOCATION:Dominion Energy Center\, 600 E. Grace St.\, Richmond\, VA\, 23219\, United States
CATEGORIES:Dominion Energy Center,Featured Event,Performance
ATTACH;FMTTYPE=image/jpeg:https://richmondballet.com/wp-content/uploads/2025/08/SeasonWebSliders_NEW_3.jpg
END:VEVENT
BEGIN:VEVENT
DTSTART;TZID=America/New_York:20251214T130000
DTEND;TZID=America/New_York:20251214T130000
DTSTAMP:20260421T004954
CREATED:20241202T204616Z
LAST-MODIFIED:20251119T151405Z
UID:7750-1765717200-1765717200@richmondballet.com
SUMMARY:The Nutcracker
DESCRIPTION:The Nutcracker\nwith Richmond Symphony at Dominion Energy Center \nChoreography and Original Direction by Stoner Winslett\nMusic by Peter Ilyich Tchaikovsky \nExperience the magic of Richmond Ballet’s beloved production of The Nutcracker. Set to Tchaikovsky’s magnificent score and accompanied by the Richmond Symphony\, this festive holiday tradition captures the wonder of the winter season. \nDates & Times\nSaturday\, December 6 – 2:00 PM and 7:00 PM\nSunday\, December 7 – 1:00 PM and 5:30 PM\nFriday\, December 12 – 7:00 PM\nSaturday\, December 13 – 2:00 PM and 7:00 PM\nSunday\, December 14 – 1:00 PM and 5:30 PM\nThursday\, December 18 – 7:00 PM\nFriday\, December 19 – 7:00 PM\nSaturday\, December 20 – 2:00 PM and 7:00 PM\nSunday\, December 21 – 1:00 PM and 5:30 PM\nMonday\, December 22 – 2:00 PM and 7:00 PM\nTuesday\, December 23 – 1:00 PM  \nTickets start at $31.60*. Visit etix.com or call the Richmond Ballet Box Office at 804.344.0906 x224 open M-F from 11:00am-6:00pm.\n*this price includes facility and online convenience fees  \nThe runtime for this performance is approximately 2 hours including one 20 minute intermission. \nPlease note: Strobe lighting and smoke effects are used in the production. \nRichmond Ballet does not offer separate pricing for children. Each guest age 2 and up must have a ticket. Ticket prices are subject to change based on availability.
URL:https://richmondballet.com/event/the-nutcracker-2/2025-12-14/
LOCATION:Dominion Energy Center\, 600 E. Grace St.\, Richmond\, VA\, 23219\, United States
CATEGORIES:Dominion Energy Center,Featured Event,Performance
ATTACH;FMTTYPE=image/jpeg:https://richmondballet.com/wp-content/uploads/2025/08/SeasonWebSliders_NEW_3.jpg
END:VEVENT
BEGIN:VEVENT
DTSTART;TZID=America/New_York:20251214T173000
DTEND;TZID=America/New_York:20251214T173000
DTSTAMP:20260421T004954
CREATED:20241202T204616Z
LAST-MODIFIED:20251119T151406Z
UID:7751-1765733400-1765733400@richmondballet.com
SUMMARY:The Nutcracker
DESCRIPTION:The Nutcracker\nwith Richmond Symphony at Dominion Energy Center \nChoreography and Original Direction by Stoner Winslett\nMusic by Peter Ilyich Tchaikovsky \nExperience the magic of Richmond Ballet’s beloved production of The Nutcracker. Set to Tchaikovsky’s magnificent score and accompanied by the Richmond Symphony\, this festive holiday tradition captures the wonder of the winter season. \nDates & Times\nSaturday\, December 6 – 2:00 PM and 7:00 PM\nSunday\, December 7 – 1:00 PM and 5:30 PM\nFriday\, December 12 – 7:00 PM\nSaturday\, December 13 – 2:00 PM and 7:00 PM\nSunday\, December 14 – 1:00 PM and 5:30 PM\nThursday\, December 18 – 7:00 PM\nFriday\, December 19 – 7:00 PM\nSaturday\, December 20 – 2:00 PM and 7:00 PM\nSunday\, December 21 – 1:00 PM and 5:30 PM\nMonday\, December 22 – 2:00 PM and 7:00 PM\nTuesday\, December 23 – 1:00 PM  \nTickets start at $31.60*. Visit etix.com or call the Richmond Ballet Box Office at 804.344.0906 x224 open M-F from 11:00am-6:00pm.\n*this price includes facility and online convenience fees  \nThe runtime for this performance is approximately 2 hours including one 20 minute intermission. \nPlease note: Strobe lighting and smoke effects are used in the production. \nRichmond Ballet does not offer separate pricing for children. Each guest age 2 and up must have a ticket. Ticket prices are subject to change based on availability.
URL:https://richmondballet.com/event/the-nutcracker-2/2025-12-14/3/
LOCATION:Dominion Energy Center\, 600 E. Grace St.\, Richmond\, VA\, 23219\, United States
CATEGORIES:Dominion Energy Center,Featured Event,Performance
ATTACH;FMTTYPE=image/jpeg:https://richmondballet.com/wp-content/uploads/2025/08/SeasonWebSliders_NEW_3.jpg
END:VEVENT
END:VCALENDAR